BEGIN:VCALENDAR
VERSION:2.0
PRODID:-//Hancock County Master Gardeners Association - ECPv6.15.20//NONSGML v1.0//EN
CALSCALE:GREGORIAN
METHOD:PUBLISH
X-ORIGINAL-URL:https://hancockmga.com
X-WR-CALDESC:Events for Hancock County Master Gardeners Association
REFRESH-INTERVAL;VALUE=DURATION:PT1H
X-Robots-Tag:noindex
X-PUBLISHED-TTL:PT1H
BEGIN:VTIMEZONE
TZID:America/Indiana/Indianapolis
BEGIN:DAYLIGHT
TZOFFSETFROM:-0500
TZOFFSETTO:-0400
TZNAME:EDT
DTSTART:20190310T070000
END:DAYLIGHT
BEGIN:STANDARD
TZOFFSETFROM:-0400
TZOFFSETTO:-0500
TZNAME:EST
DTSTART:20191103T060000
END:STANDARD
BEGIN:DAYLIGHT
TZOFFSETFROM:-0500
TZOFFSETTO:-0400
TZNAME:EDT
DTSTART:20200308T070000
END:DAYLIGHT
BEGIN:STANDARD
TZOFFSETFROM:-0400
TZOFFSETTO:-0500
TZNAME:EST
DTSTART:20201101T060000
END:STANDARD
BEGIN:DAYLIGHT
TZOFFSETFROM:-0500
TZOFFSETTO:-0400
TZNAME:EDT
DTSTART:20210314T070000
END:DAYLIGHT
BEGIN:STANDARD
TZOFFSETFROM:-0400
TZOFFSETTO:-0500
TZNAME:EST
DTSTART:20211107T060000
END:STANDARD
END:VTIMEZONE
BEGIN:VEVENT
DTSTART;TZID=America/Indiana/Indianapolis:20200328T090000
DTEND;TZID=America/Indiana/Indianapolis:20200328T150000
DTSTAMP:20260423T005734
CREATED:20200209T185248Z
LAST-MODIFIED:20200209T185248Z
UID:4366-1585386000-1585407600@hancockmga.com
SUMMARY:GardenFest 2020 - Morgan County
DESCRIPTION:The event includes the 25th annual Pansy sale\, yarn and garden vendors\, free tree and seed giveaway\, gardening demonstrations\, public educational programs\, the chance to bring in a soil sample for a simple pH test\, and a food truck on site. \nThree EMG continuing educational hours are also available. \n\nColletta Kosiba “Poison in the Garden”\nDavid Mow “Edible Mushrooms”\nTom Flatt “Backyard Apple Orchards”
URL:https://hancockmga.com/event/gardenfest-2020-morgan-county/
LOCATION:Hoosier Harvest Church\, 4085 Leonard Rd\, Martinsville\, IN\, 46151\, United States
CATEGORIES:Community Events,Events
ATTACH;FMTTYPE=image/png:https://hancockmga.com/wp-content/uploads/2020/02/Screen-Shot-2020-02-09-at-1.50.12-PM.png
END:VEVENT
END:VCALENDAR