BEGIN:VCALENDAR
VERSION:2.0
PRODID:-//Hancock County Master Gardeners Association - ECPv6.15.20//NONSGML v1.0//EN
CALSCALE:GREGORIAN
METHOD:PUBLISH
X-ORIGINAL-URL:https://hancockmga.com
X-WR-CALDESC:Events for Hancock County Master Gardeners Association
REFRESH-INTERVAL;VALUE=DURATION:PT1H
X-Robots-Tag:noindex
X-PUBLISHED-TTL:PT1H
BEGIN:VTIMEZONE
TZID:America/Indiana/Indianapolis
BEGIN:DAYLIGHT
TZOFFSETFROM:-0500
TZOFFSETTO:-0400
TZNAME:EDT
DTSTART:20180311T070000
END:DAYLIGHT
BEGIN:STANDARD
TZOFFSETFROM:-0400
TZOFFSETTO:-0500
TZNAME:EST
DTSTART:20181104T060000
END:STANDARD
BEGIN:DAYLIGHT
TZOFFSETFROM:-0500
TZOFFSETTO:-0400
TZNAME:EDT
DTSTART:20190310T070000
END:DAYLIGHT
BEGIN:STANDARD
TZOFFSETFROM:-0400
TZOFFSETTO:-0500
TZNAME:EST
DTSTART:20191103T060000
END:STANDARD
BEGIN:DAYLIGHT
TZOFFSETFROM:-0500
TZOFFSETTO:-0400
TZNAME:EDT
DTSTART:20200308T070000
END:DAYLIGHT
BEGIN:STANDARD
TZOFFSETFROM:-0400
TZOFFSETTO:-0500
TZNAME:EST
DTSTART:20201101T060000
END:STANDARD
END:VTIMEZONE
BEGIN:VEVENT
DTSTART;TZID=America/Indiana/Indianapolis:20191113T170000
DTEND;TZID=America/Indiana/Indianapolis:20191113T193000
DTSTAMP:20260425T065826
CREATED:20191105T184219Z
LAST-MODIFIED:20191105T214451Z
UID:4157-1573664400-1573673400@hancockmga.com
SUMMARY:Green Thumb Program-Getting Ready for Winter
DESCRIPTION:Bill McKnight\, The Mad Botanist will discuss garden activities to prepare for winter.
URL:https://hancockmga.com/event/green-thumb-program-getting-ready-for-winter/
LOCATION:Hancock County Public Library-New Palestine Branch\, 5731 W U.S. 52\, New Palestine\, IN\, 46163\, United States
CATEGORIES:Community Events
END:VEVENT
END:VCALENDAR