BEGIN:VCALENDAR
VERSION:2.0
PRODID:-//Hancock County Master Gardeners Association - ECPv6.15.20//NONSGML v1.0//EN
CALSCALE:GREGORIAN
METHOD:PUBLISH
X-ORIGINAL-URL:https://hancockmga.com
X-WR-CALDESC:Events for Hancock County Master Gardeners Association
REFRESH-INTERVAL;VALUE=DURATION:PT1H
X-Robots-Tag:noindex
X-PUBLISHED-TTL:PT1H
BEGIN:VTIMEZONE
TZID:America/Indiana/Indianapolis
BEGIN:DAYLIGHT
TZOFFSETFROM:-0500
TZOFFSETTO:-0400
TZNAME:EDT
DTSTART:20180311T070000
END:DAYLIGHT
BEGIN:STANDARD
TZOFFSETFROM:-0400
TZOFFSETTO:-0500
TZNAME:EST
DTSTART:20181104T060000
END:STANDARD
BEGIN:DAYLIGHT
TZOFFSETFROM:-0500
TZOFFSETTO:-0400
TZNAME:EDT
DTSTART:20190310T070000
END:DAYLIGHT
BEGIN:STANDARD
TZOFFSETFROM:-0400
TZOFFSETTO:-0500
TZNAME:EST
DTSTART:20191103T060000
END:STANDARD
BEGIN:DAYLIGHT
TZOFFSETFROM:-0500
TZOFFSETTO:-0400
TZNAME:EDT
DTSTART:20200308T070000
END:DAYLIGHT
BEGIN:STANDARD
TZOFFSETFROM:-0400
TZOFFSETTO:-0500
TZNAME:EST
DTSTART:20201101T060000
END:STANDARD
END:VTIMEZONE
BEGIN:VEVENT
DTSTART;TZID=America/Indiana/Indianapolis:20190912T173000
DTEND;TZID=America/Indiana/Indianapolis:20190912T203000
DTSTAMP:20260425T195212
CREATED:20190822T142707Z
LAST-MODIFIED:20190822T195230Z
UID:3786-1568309400-1568320200@hancockmga.com
SUMMARY:Marion Co. MGA Meeting
DESCRIPTION:“COLORFUL COMBINATIONS IN THE SHADE GARDEN”\nPRESENTED BY GENE BUSH\n\n\n\n\nGene owned Munchkin Nursery & Gardens for 20+ years\, specializing in rare and unusual shade perennials. His gardens still specialize in native and non-native perennial shade and woodland plants. He is now a consultant\, photographer\, writes articles\, books\, and lectures nationally.   The dinner / presentation is open to Marion County Master Gardener (members $15) and others (guests $18).\n  \n\nSilent Auction:  Come bid on our silent auction items. Bids will be taken at the event until 6:45 PM. Winners will be announced at 8:10 PM. Checks and Credit cards only\, please.\nParking:Parking lots are on the north and south sides of the building. Additional parking is on side streets. Handicapped parking is in the south lot in front of the main building entrance adjacent to Kessler Boulevard. Follow the signs inside the main entrance to Calvin Hall on the lower level. Elevators available.\nMeal:  Catering by A La Arlette. There will be a pasta bar\, 3 of Arlette’s delectable salads\, and an assortment of breads. Gluten free pasta is available\, just ask. Gluten free desserts will be labeled as such. Vegetarian options are available. Beverages provided.
URL:https://hancockmga.com/event/marion-co-mga-meeting/
LOCATION:IN
CATEGORIES:Community Events,Events
ATTACH;FMTTYPE=image/png:https://hancockmga.com/wp-content/uploads/2019/08/gene.png
END:VEVENT
END:VCALENDAR