BEGIN:VCALENDAR
VERSION:2.0
PRODID:-//Hancock County Master Gardeners Association - ECPv6.15.20//NONSGML v1.0//EN
CALSCALE:GREGORIAN
METHOD:PUBLISH
X-WR-CALNAME:Hancock County Master Gardeners Association
X-ORIGINAL-URL:https://hancockmga.com
X-WR-CALDESC:Events for Hancock County Master Gardeners Association
REFRESH-INTERVAL;VALUE=DURATION:PT1H
X-Robots-Tag:noindex
X-PUBLISHED-TTL:PT1H
BEGIN:VTIMEZONE
TZID:America/Indiana/Indianapolis
BEGIN:DAYLIGHT
TZOFFSETFROM:-0500
TZOFFSETTO:-0400
TZNAME:EDT
DTSTART:20180311T070000
END:DAYLIGHT
BEGIN:STANDARD
TZOFFSETFROM:-0400
TZOFFSETTO:-0500
TZNAME:EST
DTSTART:20181104T060000
END:STANDARD
BEGIN:DAYLIGHT
TZOFFSETFROM:-0500
TZOFFSETTO:-0400
TZNAME:EDT
DTSTART:20190310T070000
END:DAYLIGHT
BEGIN:STANDARD
TZOFFSETFROM:-0400
TZOFFSETTO:-0500
TZNAME:EST
DTSTART:20191103T060000
END:STANDARD
BEGIN:DAYLIGHT
TZOFFSETFROM:-0500
TZOFFSETTO:-0400
TZNAME:EDT
DTSTART:20200308T070000
END:DAYLIGHT
BEGIN:STANDARD
TZOFFSETFROM:-0400
TZOFFSETTO:-0500
TZNAME:EST
DTSTART:20201101T060000
END:STANDARD
END:VTIMEZONE
BEGIN:VEVENT
DTSTART;TZID=America/Indiana/Indianapolis:20190907T080000
DTEND;TZID=America/Indiana/Indianapolis:20190907T160000
DTSTAMP:20260425T213325
CREATED:20190822T140311Z
LAST-MODIFIED:20190822T170811Z
UID:3774-1567843200-1567872000@hancockmga.com
SUMMARY:2019 Garden School
DESCRIPTION: Need hours for Master Gardener education?? \nLearn what to do for your lawn this fall from a turf expert! Love the idea of composting\, but don’t know where to start? Learn the skills for successful composting in your own yard. Have strange bugs in your yard but not sure of their intent? Benign\, malicious\, invader? You will get the skinny on invasive insects and how best to deal with them. \n** Registration is $45 and includes continental breakfast\, lunch\, swag bags\, and more. Save $5 if you register by August 25\, 2019.
URL:https://hancockmga.com/event/2019-garden-school/
LOCATION:Madison County Fairgrounds\, 512 E. 4th Street\, Alexandria\, IN\, 46001\, United States
CATEGORIES:Community Events,Events
ATTACH;FMTTYPE=image/png:https://hancockmga.com/wp-content/uploads/2019/08/Screen-Shot-2019-08-22-at-9.54.55-AM.png
END:VEVENT
END:VCALENDAR