BEGIN:VCALENDAR
VERSION:2.0
PRODID:-//Hancock County Master Gardeners Association - ECPv6.15.20//NONSGML v1.0//EN
CALSCALE:GREGORIAN
METHOD:PUBLISH
X-WR-CALNAME:Hancock County Master Gardeners Association
X-ORIGINAL-URL:https://hancockmga.com
X-WR-CALDESC:Events for Hancock County Master Gardeners Association
REFRESH-INTERVAL;VALUE=DURATION:PT1H
X-Robots-Tag:noindex
X-PUBLISHED-TTL:PT1H
BEGIN:VTIMEZONE
TZID:America/Indiana/Indianapolis
BEGIN:DAYLIGHT
TZOFFSETFROM:-0500
TZOFFSETTO:-0400
TZNAME:EDT
DTSTART:20190310T070000
END:DAYLIGHT
BEGIN:STANDARD
TZOFFSETFROM:-0400
TZOFFSETTO:-0500
TZNAME:EST
DTSTART:20191103T060000
END:STANDARD
BEGIN:DAYLIGHT
TZOFFSETFROM:-0500
TZOFFSETTO:-0400
TZNAME:EDT
DTSTART:20200308T070000
END:DAYLIGHT
BEGIN:STANDARD
TZOFFSETFROM:-0400
TZOFFSETTO:-0500
TZNAME:EST
DTSTART:20201101T060000
END:STANDARD
BEGIN:DAYLIGHT
TZOFFSETFROM:-0500
TZOFFSETTO:-0400
TZNAME:EDT
DTSTART:20210314T070000
END:DAYLIGHT
BEGIN:STANDARD
TZOFFSETFROM:-0400
TZOFFSETTO:-0500
TZNAME:EST
DTSTART:20211107T060000
END:STANDARD
END:VTIMEZONE
BEGIN:VEVENT
DTSTART;VALUE=DATE:20200918
DTEND;VALUE=DATE:20200920
DTSTAMP:20260420T113022
CREATED:20200907T232144Z
LAST-MODIFIED:20200907T232407Z
UID:5577-1600387200-1600559999@hancockmga.com
SUMMARY:Fall Plant Sale
DESCRIPTION:September 18th-19th – Fall Plant Sale\nFall plant sale focusing on perennials. Online pre-order and in person. Click here for more details.
URL:https://hancockmga.com/event/fall-plant-sale/
LOCATION:IN
CATEGORIES:Community Events,Events
END:VEVENT
BEGIN:VEVENT
DTSTART;TZID=America/Indiana/Indianapolis:20200924T183000
DTEND;TZID=America/Indiana/Indianapolis:20200924T193000
DTSTAMP:20260420T113022
CREATED:20200403T023612Z
LAST-MODIFIED:20200403T023612Z
UID:4481-1600972200-1600975800@hancockmga.com
SUMMARY:September Meeting
DESCRIPTION:Ryan Hammer owner of Crazy Horse Hops will speak on “Growing Hops in Indiana.” The public educational program part of the meeting will take place from 6:30-7:30PM. After the  presentation\, the Hancock County Master Gardener Association will meet for a business and planning meeting  7:30-8:30PM.
URL:https://hancockmga.com/event/september-meeting-2/
LOCATION:Purdue Extension Office\, 972 E. Park Ave.\, Greenfield\, 46140
CATEGORIES:Community Events,Events
ATTACH;FMTTYPE=image/jpeg:https://hancockmga.com/wp-content/uploads/2019/11/hops-3705742_1920.jpg
END:VEVENT
END:VCALENDAR