BEGIN:VCALENDAR
VERSION:2.0
PRODID:-//Hancock County Master Gardeners Association - ECPv6.15.20//NONSGML v1.0//EN
CALSCALE:GREGORIAN
METHOD:PUBLISH
X-ORIGINAL-URL:https://hancockmga.com
X-WR-CALDESC:Events for Hancock County Master Gardeners Association
REFRESH-INTERVAL;VALUE=DURATION:PT1H
X-Robots-Tag:noindex
X-PUBLISHED-TTL:PT1H
BEGIN:VTIMEZONE
TZID:America/Indiana/Indianapolis
BEGIN:DAYLIGHT
TZOFFSETFROM:-0500
TZOFFSETTO:-0400
TZNAME:EDT
DTSTART:20190310T070000
END:DAYLIGHT
BEGIN:STANDARD
TZOFFSETFROM:-0400
TZOFFSETTO:-0500
TZNAME:EST
DTSTART:20191103T060000
END:STANDARD
BEGIN:DAYLIGHT
TZOFFSETFROM:-0500
TZOFFSETTO:-0400
TZNAME:EDT
DTSTART:20200308T070000
END:DAYLIGHT
BEGIN:STANDARD
TZOFFSETFROM:-0400
TZOFFSETTO:-0500
TZNAME:EST
DTSTART:20201101T060000
END:STANDARD
BEGIN:DAYLIGHT
TZOFFSETFROM:-0500
TZOFFSETTO:-0400
TZNAME:EDT
DTSTART:20210314T070000
END:DAYLIGHT
BEGIN:STANDARD
TZOFFSETFROM:-0400
TZOFFSETTO:-0500
TZNAME:EST
DTSTART:20211107T060000
END:STANDARD
END:VTIMEZONE
BEGIN:VEVENT
DTSTART;TZID=America/Indiana/Indianapolis:20200321T080000
DTEND;TZID=America/Indiana/Indianapolis:20200321T160000
DTSTAMP:20260423T021010
CREATED:20200209T184525Z
LAST-MODIFIED:20200209T185434Z
UID:4361-1584777600-1584806400@hancockmga.com
SUMMARY:2020 Spring Garden Show - La Porte County
DESCRIPTION:Gardening sessions\, kid’s workshops\, vendors & food. Admission: $10 at the door or through the website. Kids under 12 are free.
URL:https://hancockmga.com/event/2020-spring-garden-show/
LOCATION:Michigan City High School\, 8466 W Pahs Road\, Michigan City\, IN\, 46360\, United States
CATEGORIES:Community Events,Events
ATTACH;FMTTYPE=image/jpeg:https://hancockmga.com/wp-content/uploads/2020/02/2020-gs-logo.jpg
END:VEVENT
BEGIN:VEVENT
DTSTART;TZID=America/Indiana/Indianapolis:20200321T081500
DTEND;TZID=America/Indiana/Indianapolis:20200321T150000
DTSTAMP:20260423T021010
CREATED:20200209T183951Z
LAST-MODIFIED:20200209T185336Z
UID:4355-1584778500-1584802800@hancockmga.com
SUMMARY:2020 Gardener Symposium - Ft. Wayne
DESCRIPTION:2020 Gardener Symposium: Spring Brings Flower Power! Spend the day with like-minded gardeners\, learning about everyday sustainability and more to enhance your home landscape. All decorations and utensils will be reusable or compostable! Participation is limited to 120 people and is open to the public. Fee is $40 and includes a goodie bag\, reusable coffee cup\, and fabulous lunch from Apple Spice Junction.  The Symposium counts as five educational hours.
URL:https://hancockmga.com/event/2020-gardener-symposium/
LOCATION:Walb Union Classic Ballroom\, Union Circle Drive\, Fort Wayne\, IN\, 46815\, United States
CATEGORIES:Community Events,Events
ATTACH;FMTTYPE=image/png:https://hancockmga.com/wp-content/uploads/2020/02/MG_Symposium_SaveTheDate__002_.png
END:VEVENT
BEGIN:VEVENT
DTSTART;TZID=America/Indiana/Indianapolis:20200326T183000
DTEND;TZID=America/Indiana/Indianapolis:20200326T193000
DTSTAMP:20260423T021010
CREATED:20191112T181019Z
LAST-MODIFIED:20191112T185727Z
UID:4209-1585247400-1585251000@hancockmga.com
SUMMARY:March Meeting
DESCRIPTION:Ryan Hammer owner of Crazy Horse Hops will speak on “Growing Hops in Indiana.” The public educational program part of the March meeting will take place from 6:30-7:30PM. After the  presentation\, the Hancock County Master Gardener Association will meet for a business and planning meeting  7:30-8:30PM.
URL:https://hancockmga.com/event/march-meeting-2/
LOCATION:Purdue Extension Office\, 972 E. Park Ave.\, Greenfield\, 46140
CATEGORIES:Community Events,Events
ATTACH;FMTTYPE=image/jpeg:https://hancockmga.com/wp-content/uploads/2019/11/hops-3705742_1920.jpg
END:VEVENT
BEGIN:VEVENT
DTSTART;TZID=America/Indiana/Indianapolis:20200328T090000
DTEND;TZID=America/Indiana/Indianapolis:20200328T150000
DTSTAMP:20260423T021010
CREATED:20200209T185248Z
LAST-MODIFIED:20200209T185248Z
UID:4366-1585386000-1585407600@hancockmga.com
SUMMARY:GardenFest 2020 - Morgan County
DESCRIPTION:The event includes the 25th annual Pansy sale\, yarn and garden vendors\, free tree and seed giveaway\, gardening demonstrations\, public educational programs\, the chance to bring in a soil sample for a simple pH test\, and a food truck on site. \nThree EMG continuing educational hours are also available. \n\nColletta Kosiba “Poison in the Garden”\nDavid Mow “Edible Mushrooms”\nTom Flatt “Backyard Apple Orchards”
URL:https://hancockmga.com/event/gardenfest-2020-morgan-county/
LOCATION:Hoosier Harvest Church\, 4085 Leonard Rd\, Martinsville\, IN\, 46151\, United States
CATEGORIES:Community Events,Events
ATTACH;FMTTYPE=image/png:https://hancockmga.com/wp-content/uploads/2020/02/Screen-Shot-2020-02-09-at-1.50.12-PM.png
END:VEVENT
END:VCALENDAR