BEGIN:VCALENDAR
VERSION:2.0
PRODID:-//Hancock County Master Gardeners Association - ECPv6.15.20//NONSGML v1.0//EN
CALSCALE:GREGORIAN
METHOD:PUBLISH
X-ORIGINAL-URL:https://hancockmga.com
X-WR-CALDESC:Events for Hancock County Master Gardeners Association
REFRESH-INTERVAL;VALUE=DURATION:PT1H
X-Robots-Tag:noindex
X-PUBLISHED-TTL:PT1H
BEGIN:VTIMEZONE
TZID:America/Indiana/Indianapolis
BEGIN:DAYLIGHT
TZOFFSETFROM:-0500
TZOFFSETTO:-0400
TZNAME:EDT
DTSTART:20190310T070000
END:DAYLIGHT
BEGIN:STANDARD
TZOFFSETFROM:-0400
TZOFFSETTO:-0500
TZNAME:EST
DTSTART:20191103T060000
END:STANDARD
BEGIN:DAYLIGHT
TZOFFSETFROM:-0500
TZOFFSETTO:-0400
TZNAME:EDT
DTSTART:20200308T070000
END:DAYLIGHT
BEGIN:STANDARD
TZOFFSETFROM:-0400
TZOFFSETTO:-0500
TZNAME:EST
DTSTART:20201101T060000
END:STANDARD
BEGIN:DAYLIGHT
TZOFFSETFROM:-0500
TZOFFSETTO:-0400
TZNAME:EDT
DTSTART:20210314T070000
END:DAYLIGHT
BEGIN:STANDARD
TZOFFSETFROM:-0400
TZOFFSETTO:-0500
TZNAME:EST
DTSTART:20211107T060000
END:STANDARD
END:VTIMEZONE
BEGIN:VEVENT
DTSTART;TZID=America/Indiana/Indianapolis:20200222T080000
DTEND;TZID=America/Indiana/Indianapolis:20200222T163000
DTSTAMP:20260423T070506
CREATED:20200209T183032Z
LAST-MODIFIED:20200209T190245Z
UID:4350-1582358400-1582389000@hancockmga.com
SUMMARY:Elkhart County Garden Expo
DESCRIPTION:A day of educational workshops and vendors featuring “must have” garden tools and supplies for your garden. \nSpeakers include: \n\nMelinda Myers\, garden author of over 20 books\, lecturer\, TV/Radio host and contributing editor to Birds and Blooms magazine.\nMarcy Dailey\, herbalist\, owner of Fawn Run Farm Mercantile\, Gold Level Master Gardener.\nJoe Grady\, specialist in fermenting food and drinks\, owner of Farming for Life and organic farmer.\n\n\n\n\n\nSpeaker Schedule  \n8:00 am – DOORS OPEN   \n9.30 am – 10.30 am – GARDEN TRENDS\n    (Keynote)  Melinda Myers  \n10.45am -11.45am  –    A HARVEST OF HERBS \nMarcy Dailey  \n12.30pm – 1.15pm – FERMENTED FOODS FOR GUT HEALTH \nJoe Gady \n1.30 pm – 2.30 pm –  INCORPORATING NATIVE PLANTS INTO YOUR LANDSCAPE \n( Keynote ) Melinda Myers  \n2.45pm-3.30pm – PLANT THIS\, NOT THAT\n​Marcy Dailey  \n\nLectures & Workshops Schedule\n​\n9:00 – AQUATIC GARDENING\nKelly Bancroft  \n9:30 – COMPOSTING\nEric Amt \n10:00 – HEIRLOOMS\nJim Carpenter\n\n10:30 – GARDENING FOR CHALLENGED INDIVIDUALS\nLois Anderson \n11:00 – FORCING OF FLOWERS\nPam Cecchi \n11:30 – TOPIARIES\nBetty Foltz \n12:00 – COMPOSTING\nRoss Kistler \n12:30 – WORM CASTING\nAnnette Webb\n\n1:00 – CACTI\nEva Ruiz \n1:30 – BUSHES\nLen Harms \n2:00 – BIRDS\nLoanne Harms \n2:30 – SHADE GARDENING\nGaye Yoder
URL:https://hancockmga.com/event/elkhart_garden_expo/
LOCATION:Northern Indiana Event Center\, 21565 Executive Parkway\, Elkhart\, IN\, United States
CATEGORIES:Community Events
ATTACH;FMTTYPE=image/jpeg:https://hancockmga.com/wp-content/uploads/2020/02/planting-865294_1920.jpg
END:VEVENT
BEGIN:VEVENT
DTSTART;TZID=America/Indiana/Indianapolis:20200227T183000
DTEND;TZID=America/Indiana/Indianapolis:20200227T193000
DTSTAMP:20260423T070506
CREATED:20191112T155549Z
LAST-MODIFIED:20191112T200317Z
UID:4202-1582828200-1582831800@hancockmga.com
SUMMARY:February Meeting
DESCRIPTION:Darlene Trusty\, a Hancock County Master Gardener will speak on “Terrariums and Miniature Gardening.”  The public educational program part of the February meeting will take place from 6:30-7:30PM. After the  presentation\, the Hancock County Master Gardener Association will meet for a business and planning meeting  7:30-8:30PM.
URL:https://hancockmga.com/event/february-meeting-2/
LOCATION:Purdue Extension Office\, 972 E. Park Ave.\, Greenfield\, 46140
CATEGORIES:Community Events,Events
ATTACH;FMTTYPE=image/jpeg:https://hancockmga.com/wp-content/uploads/2019/11/terrarium.jpg
END:VEVENT
END:VCALENDAR