BEGIN:VCALENDAR
VERSION:2.0
PRODID:-//Hancock County Master Gardeners Association - ECPv6.15.20//NONSGML v1.0//EN
CALSCALE:GREGORIAN
METHOD:PUBLISH
X-ORIGINAL-URL:https://hancockmga.com
X-WR-CALDESC:Events for Hancock County Master Gardeners Association
REFRESH-INTERVAL;VALUE=DURATION:PT1H
X-Robots-Tag:noindex
X-PUBLISHED-TTL:PT1H
BEGIN:VTIMEZONE
TZID:America/Indiana/Indianapolis
BEGIN:DAYLIGHT
TZOFFSETFROM:-0500
TZOFFSETTO:-0400
TZNAME:EDT
DTSTART:20180311T070000
END:DAYLIGHT
BEGIN:STANDARD
TZOFFSETFROM:-0400
TZOFFSETTO:-0500
TZNAME:EST
DTSTART:20181104T060000
END:STANDARD
BEGIN:DAYLIGHT
TZOFFSETFROM:-0500
TZOFFSETTO:-0400
TZNAME:EDT
DTSTART:20190310T070000
END:DAYLIGHT
BEGIN:STANDARD
TZOFFSETFROM:-0400
TZOFFSETTO:-0500
TZNAME:EST
DTSTART:20191103T060000
END:STANDARD
BEGIN:DAYLIGHT
TZOFFSETFROM:-0500
TZOFFSETTO:-0400
TZNAME:EDT
DTSTART:20200308T070000
END:DAYLIGHT
BEGIN:STANDARD
TZOFFSETFROM:-0400
TZOFFSETTO:-0500
TZNAME:EST
DTSTART:20201101T060000
END:STANDARD
END:VTIMEZONE
BEGIN:VEVENT
DTSTART;TZID=America/Indiana/Indianapolis:20191014T183000
DTEND;TZID=America/Indiana/Indianapolis:20191014T193000
DTSTAMP:20260425T085348
CREATED:20190521T211029Z
LAST-MODIFIED:20190927T112148Z
UID:3485-1571077800-1571081400@hancockmga.com
SUMMARY:Fall Floral Arranging
DESCRIPTION:Rita Miller will show you how to wow your guests with your fall floral arrangements.
URL:https://hancockmga.com/event/fall-floral-arranging/
LOCATION:New Castle Henry County Public Library\, 376 South 15th Street \, New Castle \, Indiana 
CATEGORIES:Community Events,Events
END:VEVENT
END:VCALENDAR